BEGIN:VCALENDAR
VERSION:2.0
PRODID:SchoolNow
CALSCALE:GREGORIAN
BEGIN:VEVENT
UID:7d02d30a-563c-11f0-966f-0a58a9feac02
DTSTAMP:20260421T211106Z
SUMMARY:Girls Junior Varsity Basketball v. Pulaski
LOCATION:Jefferson Community College
URL;VALUE=URI:https://www.1000islandsschools.org/departments/athletics/cale
 ndar/8372552/girls-junior-varsity-basketball-v-pulaski
DTSTART:20251227T150000Z
DTEND:20251227T160000Z
END:VEVENT
END:VCALENDAR
