BEGIN:VCALENDAR
VERSION:2.0
PRODID:SchoolNow
CALSCALE:GREGORIAN
BEGIN:VEVENT
UID:7d02d5bc-563c-11f0-9cbe-0a58a9feac02
DTSTAMP:20260421T211106Z
SUMMARY:Girls Varsity Volleyball v. Pulaski
LOCATION:Thousand Islands High School Gym
URL;VALUE=URI:https://www.1000islandsschools.org/departments/athletics/cale
 ndar/8372555/girls-varsity-volleyball-v-pulaski
DTSTART:20260115T000000Z
DTEND:20260115T010000Z
END:VEVENT
END:VCALENDAR
