BEGIN:VCALENDAR
VERSION:2.0
PRODID:SchoolNow
CALSCALE:GREGORIAN
BEGIN:VEVENT
UID:7d02d698-563c-11f0-8608-0a58a9feac02
DTSTAMP:20260421T211106Z
SUMMARY:Girls Junior Varsity Volleyball v. Pulaski
LOCATION:Thousand Islands High School Gym
URL;VALUE=URI:https://www.1000islandsschools.org/departments/athletics/cale
 ndar/8372556/girls-junior-varsity-volleyball-v-pulaski
DTSTART:20260114T223000Z
DTEND:20260114T233000Z
END:VEVENT
END:VCALENDAR
