BEGIN:VCALENDAR
VERSION:2.0
PRODID:SchoolNow
CALSCALE:GREGORIAN
BEGIN:VEVENT
UID:7d3b261a-563c-11f0-89e7-0a58a9feac02
DTSTAMP:20260421T211106Z
SUMMARY:POSTPONED: Girls Varsity Basketball v. Cato-Meridian (Blue Devils)
LOCATION:Thousand Islands High School Gym
URL;VALUE=URI:https://www.1000islandsschools.org/departments/athletics/cale
 ndar/8372564/postponed-girls-varsity-basketball-v-cato-meridian-blue-devil
 s
DTSTART:20260207T160000Z
DTEND:20260207T170000Z
END:VEVENT
END:VCALENDAR
