BEGIN:VCALENDAR
VERSION:2.0
PRODID:SchoolNow
CALSCALE:GREGORIAN
BEGIN:VEVENT
UID:7d3b270a-563c-11f0-9341-0a58a9feac02
DTSTAMP:20260421T211106Z
SUMMARY:CANCELLED: Girls Junior Varsity Basketball v. Cato-Meridian (Blue D
 evils)
LOCATION:Thousand Islands High School Gym
URL;VALUE=URI:https://www.1000islandsschools.org/departments/athletics/cale
 ndar/8372565/cancelled-girls-junior-varsity-basketball-v-cato-meridian-blu
 e-devils
DTSTART:20260131T160000Z
DTEND:20260131T170000Z
END:VEVENT
END:VCALENDAR
