BEGIN:VCALENDAR
VERSION:2.0
PRODID:SchoolNow
CALSCALE:GREGORIAN
BEGIN:VEVENT
UID:7d3b2a0c-563c-11f0-9009-0a58a9feac02
DTSTAMP:20260421T211106Z
SUMMARY:Girls Varsity Basketball v. Immaculate Heart Central\, Watertown
LOCATION:Thousand Islands High School Gym
URL;VALUE=URI:https://www.1000islandsschools.org/departments/athletics/cale
 ndar/8372568/girls-varsity-basketball-v-immaculate-heart-central-watertown
DTSTART:20260206T003000Z
DTEND:20260206T013000Z
END:VEVENT
END:VCALENDAR
