BEGIN:VCALENDAR
VERSION:2.0
PRODID:SchoolNow
CALSCALE:GREGORIAN
BEGIN:VEVENT
UID:7d3b2af2-563c-11f0-8260-0a58a9feac02
DTSTAMP:20260421T211106Z
SUMMARY:Girls Junior Varsity Basketball v. Immaculate Heart Central\, Water
 town
LOCATION:Thousand Islands High School Gym
URL;VALUE=URI:https://www.1000islandsschools.org/departments/athletics/cale
 ndar/8372569/girls-junior-varsity-basketball-v-immaculate-heart-central-wa
 tertown
DTSTART:20260205T230000Z
DTEND:20260206T000000Z
END:VEVENT
END:VCALENDAR
