BEGIN:VCALENDAR
VERSION:2.0
PRODID:SchoolNow
CALSCALE:GREGORIAN
BEGIN:VEVENT
UID:7d3b2da4-563c-11f0-9b00-0a58a9feac02
DTSTAMP:20260421T211106Z
SUMMARY:Boys Varsity Basketball @ Hammond
LOCATION:Hammond School
URL;VALUE=URI:https://www.1000islandsschools.org/departments/athletics/cale
 ndar/8372572/boys-varsity-basketball-hammond
DTSTART:20260203T000000Z
DTEND:20260203T010000Z
END:VEVENT
END:VCALENDAR
