BEGIN:VCALENDAR
VERSION:2.0
PRODID:SchoolNow
CALSCALE:GREGORIAN
BEGIN:VEVENT
UID:7d3b2e8a-563c-11f0-aab6-0a58a9feac02
DTSTAMP:20260421T211106Z
SUMMARY:Boys Junior Varsity Basketball @ Hammond
LOCATION:Hammond School
URL;VALUE=URI:https://www.1000islandsschools.org/departments/athletics/cale
 ndar/8372573/boys-junior-varsity-basketball-hammond
DTSTART:20260202T223000Z
DTEND:20260202T233000Z
END:VEVENT
END:VCALENDAR
