BEGIN:VCALENDAR
VERSION:2.0
PRODID:SchoolNow
CALSCALE:GREGORIAN
BEGIN:VEVENT
UID:3067d822-97f7-11f0-8574-0a58a9feac02
DTSTAMP:20260421T211106Z
SUMMARY:POSTPONED: Girls (Islanders) Varsity Ice Hockey @ Clinton (Combined
 )
LOCATION:Nexus Center
URL;VALUE=URI:https://www.1000islandsschools.org/departments/athletics/cale
 ndar/8653677/postponed-girls-islanders-varsity-ice-hockey-clinton-combined
DTSTART:20260102T050000Z
DTEND:20260102T060000Z
END:VEVENT
END:VCALENDAR
