BEGIN:VCALENDAR
VERSION:2.0
PRODID:SchoolNow
CALSCALE:GREGORIAN
BEGIN:VEVENT
UID:3067dba6-97f7-11f0-be1b-0a58a9feac02
DTSTAMP:20260421T211106Z
SUMMARY:Girls (Islanders) Varsity Ice Hockey @ Ithaca
LOCATION:The Rink
URL;VALUE=URI:https://www.1000islandsschools.org/departments/athletics/cale
 ndar/8653678/girls-islanders-varsity-ice-hockey-ithaca
DTSTART:20260109T223000Z
DTEND:20260110T003000Z
END:VEVENT
END:VCALENDAR
