BEGIN:VCALENDAR
VERSION:2.0
PRODID:SchoolNow
CALSCALE:GREGORIAN
BEGIN:VEVENT
UID:3067dcf0-97f7-11f0-b5ce-0a58a9feac02
DTSTAMP:20260421T211106Z
SUMMARY:Girls (Islanders) Varsity Ice Hockey v. Skaneateles
LOCATION:Gordon D Cerow Rec Park
URL;VALUE=URI:https://www.1000islandsschools.org/departments/athletics/cale
 ndar/8653679/girls-islanders-varsity-ice-hockey-v-skaneateles
DTSTART:20260108T230000Z
DTEND:20260109T000000Z
END:VEVENT
END:VCALENDAR
