BEGIN:VCALENDAR
VERSION:2.0
PRODID:SchoolNow
CALSCALE:GREGORIAN
BEGIN:VEVENT
UID:cc9df2a8-9f22-11f0-bb40-0a58a9feac02
DTSTAMP:20260421T211106Z
SUMMARY:Boys Junior Varsity Basketball v. TBD
LOCATION:Thousand Islands High School Gym
URL;VALUE=URI:https://www.1000islandsschools.org/departments/athletics/cale
 ndar/8685591/boys-junior-varsity-basketball-v-tbd
DTSTART:20260121T230000Z
DTEND:20260122T000000Z
END:VEVENT
END:VCALENDAR
