BEGIN:VCALENDAR
VERSION:2.0
PRODID:SchoolNow
CALSCALE:GREGORIAN
BEGIN:VEVENT
UID:cb4b58ac-9fbb-11f0-9998-0eac7e71d517
DTSTAMP:20260421T211106Z
SUMMARY:Girls Varsity Softball @ Lowville
URL;VALUE=URI:https://www.1000islandsschools.org/departments/athletics/cale
 ndar/8687970/girls-varsity-softball-lowville
DTSTART:20260516T040000Z
DTEND:20260516T050000Z
END:VEVENT
END:VCALENDAR
