BEGIN:VCALENDAR
VERSION:2.0
PRODID:SchoolNow
CALSCALE:GREGORIAN
BEGIN:VEVENT
UID:83dc4970-a51c-11f0-a59c-0a58a9feac02
DTSTAMP:20260421T211106Z
SUMMARY:Girls Varsity Softball @ Beaver River
LOCATION:Beaver River H S
URL;VALUE=URI:https://www.1000islandsschools.org/departments/athletics/cale
 ndar/8708249/girls-varsity-softball-beaver-river
DTSTART:20260417T210000Z
DTEND:20260417T220000Z
END:VEVENT
END:VCALENDAR
