BEGIN:VCALENDAR
VERSION:2.0
PRODID:SchoolNow
CALSCALE:GREGORIAN
BEGIN:VEVENT
UID:83dc4b78-a51c-11f0-bb1a-0a58a9feac02
DTSTAMP:20260421T211106Z
SUMMARY:Boys Varsity Baseball @ Copenhagen
LOCATION:Copenhagen Turf Field
URL;VALUE=URI:https://www.1000islandsschools.org/departments/athletics/cale
 ndar/8708250/boys-varsity-baseball-copenhagen
DTSTART:20260430T210000Z
DTEND:20260430T220000Z
END:VEVENT
END:VCALENDAR
