BEGIN:VCALENDAR
VERSION:2.0
PRODID:SchoolNow
CALSCALE:GREGORIAN
BEGIN:VEVENT
UID:83dc4d4e-a51c-11f0-a930-0a58a9feac02
DTSTAMP:20260421T211106Z
SUMMARY:Boys Varsity Baseball v. Copenhagen
LOCATION:Thousand Islands High School Baseball Field
URL;VALUE=URI:https://www.1000islandsschools.org/departments/athletics/cale
 ndar/8708251/boys-varsity-baseball-v-copenhagen
DTSTART:20260504T210000Z
DTEND:20260504T220000Z
END:VEVENT
END:VCALENDAR
