BEGIN:VCALENDAR
VERSION:2.0
PRODID:SchoolNow
CALSCALE:GREGORIAN
BEGIN:VEVENT
UID:83dc4efc-a51c-11f0-ae4b-0a58a9feac02
DTSTAMP:20260421T211106Z
SUMMARY:Girls Varsity Softball @ Copenhagen
LOCATION:Copenhagen Turf Field
URL;VALUE=URI:https://www.1000islandsschools.org/departments/athletics/cale
 ndar/8708252/girls-varsity-softball-copenhagen
DTSTART:20260506T230000Z
DTEND:20260507T000000Z
END:VEVENT
END:VCALENDAR
