BEGIN:VCALENDAR
VERSION:2.0
PRODID:SchoolNow
CALSCALE:GREGORIAN
BEGIN:VEVENT
UID:81cdc392-a54f-11f0-b087-0a58a9feac02
DTSTAMP:20260421T211106Z
SUMMARY:Girls 7th/8th Volleyball v. Carthage
LOCATION:Thousand Islands Middle School Gym
URL;VALUE=URI:https://www.1000islandsschools.org/departments/athletics/cale
 ndar/8709452/girls-7th-8th-volleyball-v-carthage
DTSTART:20260205T233000Z
DTEND:20260206T003000Z
END:VEVENT
END:VCALENDAR
