BEGIN:VCALENDAR
VERSION:2.0
PRODID:SchoolNow
CALSCALE:GREGORIAN
BEGIN:VEVENT
UID:81cdc4dc-a54f-11f0-bf0f-0a58a9feac02
DTSTAMP:20260421T211106Z
SUMMARY:Girls (Islanders) Varsity Ice Hockey v. Oswego
LOCATION:Gordon D Cerow Rec Park
URL;VALUE=URI:https://www.1000islandsschools.org/departments/athletics/cale
 ndar/8709453/girls-islanders-varsity-ice-hockey-v-oswego
DTSTART:20260204T213000Z
DTEND:20260204T223000Z
END:VEVENT
END:VCALENDAR
