BEGIN:VCALENDAR
VERSION:2.0
PRODID:SchoolNow
CALSCALE:GREGORIAN
BEGIN:VEVENT
UID:70e6b422-a61b-11f0-ac38-0a58a9feac02
DTSTAMP:20260421T211106Z
SUMMARY:Boys Varsity Baseball v. Sackets Harbor
LOCATION:Thousand Islands High School Baseball Field
URL;VALUE=URI:https://www.1000islandsschools.org/departments/athletics/cale
 ndar/8712397/boys-varsity-baseball-v-sackets-harbor
DTSTART:20260421T203000Z
DTEND:20260421T213000Z
END:VEVENT
END:VCALENDAR
