BEGIN:VCALENDAR
VERSION:2.0
PRODID:SchoolNow
CALSCALE:GREGORIAN
BEGIN:VEVENT
UID:70e6b74c-a61b-11f0-8036-0a58a9feac02
DTSTAMP:20260421T211106Z
SUMMARY:Boys Varsity Baseball @ Sackets Harbor
LOCATION:SHCS Varsity Baseball
URL;VALUE=URI:https://www.1000islandsschools.org/departments/athletics/cale
 ndar/8712398/boys-varsity-baseball-sackets-harbor
DTSTART:20260422T203000Z
DTEND:20260422T213000Z
END:VEVENT
END:VCALENDAR
