BEGIN:VCALENDAR
VERSION:2.0
PRODID:SchoolNow
CALSCALE:GREGORIAN
BEGIN:VEVENT
UID:70e6b882-a61b-11f0-a8ce-0a58a9feac02
DTSTAMP:20260421T211106Z
SUMMARY:Girls Varsity Softball v. Sackets Harbor
LOCATION:Thousand Islands High School Softball Field
URL;VALUE=URI:https://www.1000islandsschools.org/departments/athletics/cale
 ndar/8712399/girls-varsity-softball-v-sackets-harbor
DTSTART:20260422T203000Z
DTEND:20260422T213000Z
END:VEVENT
END:VCALENDAR
