BEGIN:VCALENDAR
VERSION:2.0
PRODID:SchoolNow
CALSCALE:GREGORIAN
BEGIN:VEVENT
UID:70e6b99a-a61b-11f0-9ee4-0a58a9feac02
DTSTAMP:20260421T211106Z
SUMMARY:CANCELLED: Girls Junior Varsity Softball v. Sackets Harbor
LOCATION:Thousand Islands High School Softball Field
URL;VALUE=URI:https://www.1000islandsschools.org/departments/athletics/cale
 ndar/8712400/cancelled-girls-junior-varsity-softball-v-sackets-harbor
DTSTART:20260424T203000Z
DTEND:20260424T213000Z
END:VEVENT
END:VCALENDAR
