BEGIN:VCALENDAR
VERSION:2.0
PRODID:SchoolNow
CALSCALE:GREGORIAN
BEGIN:VEVENT
UID:70e6ba94-a61b-11f0-980c-0a58a9feac02
DTSTAMP:20260421T211106Z
SUMMARY:CANCELLED: Girls Junior Varsity Softball @ Sackets Harbor
LOCATION:SHCS Varsity Softball
URL;VALUE=URI:https://www.1000islandsschools.org/departments/athletics/cale
 ndar/8712401/cancelled-girls-junior-varsity-softball-sackets-harbor
DTSTART:20260514T203000Z
DTEND:20260514T213000Z
END:VEVENT
END:VCALENDAR
