BEGIN:VCALENDAR
VERSION:2.0
PRODID:SchoolNow
CALSCALE:GREGORIAN
BEGIN:VEVENT
UID:3808f89c-aab0-11f0-90e5-0e78a0487945
DTSTAMP:20260421T211106Z
SUMMARY:Girls 7th/8th Volleyball @ South Jefferson
LOCATION:SJ Wilson Elem. Gym 1 (old/larger)
URL;VALUE=URI:https://www.1000islandsschools.org/departments/athletics/cale
 ndar/8727050/girls-7th-8th-volleyball-south-jefferson
DTSTART:20260209T213000Z
DTEND:20260209T223000Z
END:VEVENT
END:VCALENDAR
