BEGIN:VCALENDAR
VERSION:2.0
PRODID:SchoolNow
CALSCALE:GREGORIAN
BEGIN:VEVENT
UID:3808faea-aab0-11f0-9a21-0e78a0487945
DTSTAMP:20260421T211106Z
SUMMARY:Girls 7th/8th Volleyball v. Beaver River
LOCATION:Thousand Islands Middle School Gym
URL;VALUE=URI:https://www.1000islandsschools.org/departments/athletics/cale
 ndar/8727052/girls-7th-8th-volleyball-v-beaver-river
DTSTART:20260129T220000Z
DTEND:20260129T230000Z
END:VEVENT
END:VCALENDAR
