BEGIN:VCALENDAR
VERSION:2.0
PRODID:SchoolNow
CALSCALE:GREGORIAN
BEGIN:VEVENT
UID:3808fbda-aab0-11f0-8005-0e78a0487945
DTSTAMP:20260421T211106Z
SUMMARY:Girls 7th/8th Volleyball v. Indian River
LOCATION:Thousand Islands Middle School Gym
URL;VALUE=URI:https://www.1000islandsschools.org/departments/athletics/cale
 ndar/8727053/girls-7th-8th-volleyball-v-indian-river
DTSTART:20260203T213000Z
DTEND:20260203T223000Z
END:VEVENT
END:VCALENDAR
