BEGIN:VCALENDAR
VERSION:2.0
PRODID:SchoolNow
CALSCALE:GREGORIAN
BEGIN:VEVENT
UID:3808fdba-aab0-11f0-b05f-0e78a0487945
DTSTAMP:20260421T211106Z
SUMMARY:Girls 7th/8th Volleyball @ General Brown
LOCATION:B-GP Elem Gym
URL;VALUE=URI:https://www.1000islandsschools.org/departments/athletics/cale
 ndar/8727055/girls-7th-8th-volleyball-general-brown
DTSTART:20260212T213000Z
DTEND:20260212T233000Z
END:VEVENT
END:VCALENDAR
