BEGIN:VCALENDAR
VERSION:2.0
PRODID:SchoolNow
CALSCALE:GREGORIAN
BEGIN:VEVENT
UID:38090152-aab0-11f0-b96a-0e78a0487945
DTSTAMP:20260421T211106Z
SUMMARY:Girls 7th/8th Volleyball v. Lowville
LOCATION:Thousand Islands Middle School Gym
URL;VALUE=URI:https://www.1000islandsschools.org/departments/athletics/cale
 ndar/8727058/girls-7th-8th-volleyball-v-lowville
DTSTART:20260202T220000Z
DTEND:20260202T230000Z
END:VEVENT
END:VCALENDAR
