BEGIN:VCALENDAR
VERSION:2.0
PRODID:SchoolNow
CALSCALE:GREGORIAN
BEGIN:VEVENT
UID:3809031e-aab0-11f0-b0c3-0e78a0487945
DTSTAMP:20260421T211106Z
SUMMARY:Girls 7th/8th Volleyball @ South Lewis
LOCATION:South Lewis Elem Gymnasium
URL;VALUE=URI:https://www.1000islandsschools.org/departments/athletics/cale
 ndar/8727060/girls-7th-8th-volleyball-south-lewis
DTSTART:20260211T223000Z
DTEND:20260211T233000Z
END:VEVENT
END:VCALENDAR
