BEGIN:VCALENDAR
VERSION:2.0
PRODID:SchoolNow
CALSCALE:GREGORIAN
BEGIN:VEVENT
UID:380904e0-aab0-11f0-afbb-0e78a0487945
DTSTAMP:20260421T211106Z
SUMMARY:Girls 7th/8th Volleyball @ Watertown
LOCATION:Watertown H S
URL;VALUE=URI:https://www.1000islandsschools.org/departments/athletics/cale
 ndar/8727062/girls-7th-8th-volleyball-watertown
DTSTART:20260227T230000Z
DTEND:20260228T000000Z
END:VEVENT
END:VCALENDAR
