BEGIN:VCALENDAR
VERSION:2.0
PRODID:SchoolNow
CALSCALE:GREGORIAN
BEGIN:VEVENT
UID:380905bc-aab0-11f0-81a6-0e78a0487945
DTSTAMP:20260421T211106Z
SUMMARY:Girls 7th/8th Volleyball @ Sandy Creek
LOCATION:Sandy Creek MS/HS Gym
URL;VALUE=URI:https://www.1000islandsschools.org/departments/athletics/cale
 ndar/8727063/girls-7th-8th-volleyball-sandy-creek
DTSTART:20260303T213000Z
DTEND:20260303T223000Z
END:VEVENT
END:VCALENDAR
