BEGIN:VCALENDAR
VERSION:2.0
PRODID:SchoolNow
CALSCALE:GREGORIAN
BEGIN:VEVENT
UID:1ead5100-ac7b-11f0-bab9-0affe2fba681
DTSTAMP:20260421T211106Z
SUMMARY:Boys Varsity Lacrosse v. Carthage
LOCATION:Thousand Islands Turf Field
URL;VALUE=URI:https://www.1000islandsschools.org/departments/athletics/cale
 ndar/8732365/boys-varsity-lacrosse-v-carthage
DTSTART:20260413T203000Z
DTEND:20260413T213000Z
END:VEVENT
END:VCALENDAR
