BEGIN:VCALENDAR
VERSION:2.0
PRODID:SchoolNow
CALSCALE:GREGORIAN
BEGIN:VEVENT
UID:1ead566e-ac7b-11f0-8424-0affe2fba681
DTSTAMP:20260421T211106Z
SUMMARY:Boys Varsity Lacrosse v. General Brown
LOCATION:Thousand Islands Turf Field
URL;VALUE=URI:https://www.1000islandsschools.org/departments/athletics/cale
 ndar/8732366/boys-varsity-lacrosse-v-general-brown
DTSTART:20260505T203000Z
DTEND:20260505T213000Z
END:VEVENT
END:VCALENDAR
