BEGIN:VCALENDAR
VERSION:2.0
PRODID:SchoolNow
CALSCALE:GREGORIAN
BEGIN:VEVENT
UID:1eb59f22-ac7b-11f0-8be4-0affe2fba681
DTSTAMP:20260421T211106Z
SUMMARY:Boys Varsity Lacrosse @ Lowville
LOCATION:Lowville Bostwick Field
URL;VALUE=URI:https://www.1000islandsschools.org/departments/athletics/cale
 ndar/8732367/boys-varsity-lacrosse-lowville
DTSTART:20260422T220000Z
DTEND:20260422T230000Z
END:VEVENT
END:VCALENDAR
