BEGIN:VCALENDAR
VERSION:2.0
PRODID:SchoolNow
CALSCALE:GREGORIAN
BEGIN:VEVENT
UID:1bdf5c4c-acae-11f0-ae21-0a58a9feac02
DTSTAMP:20260421T211106Z
SUMMARY:Boys Varsity Lacrosse @ Indian River
LOCATION:Wolves Stadium\, Turf Facility (Field A)
URL;VALUE=URI:https://www.1000islandsschools.org/departments/athletics/cale
 ndar/8733144/boys-varsity-lacrosse-indian-river
DTSTART:20260507T213000Z
DTEND:20260507T233000Z
END:VEVENT
END:VCALENDAR
