BEGIN:VCALENDAR
VERSION:2.0
PRODID:SchoolNow
CALSCALE:GREGORIAN
BEGIN:VEVENT
UID:1bdf5da0-acae-11f0-a13a-0a58a9feac02
DTSTAMP:20260421T211106Z
SUMMARY:Boys Varsity Lacrosse v. South Jefferson
LOCATION:Thousand Islands Turf Field
URL;VALUE=URI:https://www.1000islandsschools.org/departments/athletics/cale
 ndar/8733145/boys-varsity-lacrosse-v-south-jefferson
DTSTART:20260331T210000Z
DTEND:20260331T220000Z
END:VEVENT
END:VCALENDAR
