BEGIN:VCALENDAR
VERSION:2.0
PRODID:SchoolNow
CALSCALE:GREGORIAN
BEGIN:VEVENT
UID:1bdf5eb8-acae-11f0-b6a3-0a58a9feac02
DTSTAMP:20260421T211106Z
SUMMARY:Boys Varsity Lacrosse @ South Jefferson
LOCATION:SJ HS/MS - Stadium Turf Field
URL;VALUE=URI:https://www.1000islandsschools.org/departments/athletics/cale
 ndar/8733146/boys-varsity-lacrosse-south-jefferson
DTSTART:20260518T230000Z
DTEND:20260519T000000Z
END:VEVENT
END:VCALENDAR
