BEGIN:VCALENDAR
VERSION:2.0
PRODID:SchoolNow
CALSCALE:GREGORIAN
BEGIN:VEVENT
UID:1bdf5fbc-acae-11f0-8d0b-0a58a9feac02
DTSTAMP:20260421T211106Z
SUMMARY:Boys Varsity Lacrosse @ Immaculate Heart Central\, Watertown
LOCATION:Immaculate Heart Central  H S
URL;VALUE=URI:https://www.1000islandsschools.org/departments/athletics/cale
 ndar/8733147/boys-varsity-lacrosse-immaculate-heart-central-watertown
DTSTART:20260430T220000Z
DTEND:20260430T230000Z
END:VEVENT
END:VCALENDAR
