BEGIN:VCALENDAR
VERSION:2.0
PRODID:SchoolNow
CALSCALE:GREGORIAN
BEGIN:VEVENT
UID:1bdf60ac-acae-11f0-9c16-0a58a9feac02
DTSTAMP:20260421T211106Z
SUMMARY:Boys Varsity Lacrosse @ Watertown
LOCATION:Watertown Turf Field
URL;VALUE=URI:https://www.1000islandsschools.org/departments/athletics/cale
 ndar/8733148/boys-varsity-lacrosse-watertown
DTSTART:20260511T230000Z
DTEND:20260512T000000Z
END:VEVENT
END:VCALENDAR
