BEGIN:VCALENDAR
VERSION:2.0
PRODID:SchoolNow
CALSCALE:GREGORIAN
BEGIN:VEVENT
UID:1bdf619c-acae-11f0-b316-0a58a9feac02
DTSTAMP:20260421T211106Z
SUMMARY:Boys Varsity Lacrosse v. Immaculate Heart Central\, Watertown
LOCATION:Thousand Islands Turf Field
URL;VALUE=URI:https://www.1000islandsschools.org/departments/athletics/cale
 ndar/8733149/boys-varsity-lacrosse-v-immaculate-heart-central-watertown
DTSTART:20260515T203000Z
DTEND:20260515T213000Z
END:VEVENT
END:VCALENDAR
