BEGIN:VCALENDAR
VERSION:2.0
PRODID:SchoolNow
CALSCALE:GREGORIAN
BEGIN:VEVENT
UID:87547cb6-ae91-11f0-a65a-0a58a9feac02
DTSTAMP:20260421T211106Z
SUMMARY:Girls Varsity Softball v. Beaver River
LOCATION:Thousand Islands High School
URL;VALUE=URI:https://www.1000islandsschools.org/departments/athletics/cale
 ndar/8739013/girls-varsity-softball-v-beaver-river
DTSTART:20260515T210000Z
DTEND:20260515T220000Z
END:VEVENT
END:VCALENDAR
