BEGIN:VCALENDAR
VERSION:2.0
PRODID:SchoolNow
CALSCALE:GREGORIAN
BEGIN:VEVENT
UID:8754806c-ae91-11f0-af0c-0a58a9feac02
DTSTAMP:20260421T211106Z
SUMMARY:Girls Junior Varsity Softball v. Beaver River
LOCATION:Thousand Islands High School Softball Field
URL;VALUE=URI:https://www.1000islandsschools.org/departments/athletics/cale
 ndar/8739014/girls-junior-varsity-softball-v-beaver-river
DTSTART:20260504T210000Z
DTEND:20260504T220000Z
END:VEVENT
END:VCALENDAR
