BEGIN:VCALENDAR
VERSION:2.0
PRODID:SchoolNow
CALSCALE:GREGORIAN
BEGIN:VEVENT
UID:7b4d8c24-af5d-11f0-859b-0a58a9feac02
DTSTAMP:20260421T211106Z
SUMMARY:Boys Varsity Baseball @ Lyme
LOCATION:Lyme School
URL;VALUE=URI:https://www.1000islandsschools.org/departments/athletics/cale
 ndar/8742628/boys-varsity-baseball-lyme
DTSTART:20260518T203000Z
DTEND:20260518T213000Z
END:VEVENT
END:VCALENDAR
