BEGIN:VCALENDAR
VERSION:2.0
PRODID:SchoolNow
CALSCALE:GREGORIAN
BEGIN:VEVENT
UID:7b4d8fb2-af5d-11f0-a472-0a58a9feac02
DTSTAMP:20260421T211106Z
SUMMARY:Boys Varsity Baseball v. Lyme
LOCATION:Thousand Islands High School Baseball Field
URL;VALUE=URI:https://www.1000islandsschools.org/departments/athletics/cale
 ndar/8742629/boys-varsity-baseball-v-lyme
DTSTART:20260520T203000Z
DTEND:20260520T213000Z
END:VEVENT
END:VCALENDAR
