BEGIN:VCALENDAR
VERSION:2.0
PRODID:SchoolNow
CALSCALE:GREGORIAN
BEGIN:VEVENT
UID:7b4d90f2-af5d-11f0-a924-0a58a9feac02
DTSTAMP:20260421T211106Z
SUMMARY:Boys Varsity Baseball v. Belleville Henderson
LOCATION:Thousand Islands High School Baseball Field
URL;VALUE=URI:https://www.1000islandsschools.org/departments/athletics/cale
 ndar/8742630/boys-varsity-baseball-v-belleville-henderson
DTSTART:20260506T210000Z
DTEND:20260506T220000Z
END:VEVENT
END:VCALENDAR
