BEGIN:VCALENDAR
VERSION:2.0
PRODID:SchoolNow
CALSCALE:GREGORIAN
BEGIN:VEVENT
UID:7b4d92aa-af5d-11f0-8e7c-0a58a9feac02
DTSTAMP:20260421T211106Z
SUMMARY:Boys Varsity Baseball @ Belleville Henderson
LOCATION:Belleville Henderson Central School Varsity Baseball
URL;VALUE=URI:https://www.1000islandsschools.org/departments/athletics/cale
 ndar/8742631/boys-varsity-baseball-belleville-henderson
DTSTART:20260508T210000Z
DTEND:20260508T220000Z
END:VEVENT
END:VCALENDAR
