BEGIN:VCALENDAR
VERSION:2.0
PRODID:SchoolNow
CALSCALE:GREGORIAN
BEGIN:VEVENT
UID:7b4d93ae-af5d-11f0-823b-0a58a9feac02
DTSTAMP:20260421T211106Z
SUMMARY:Boys Varsity Baseball v. LaFargeville
LOCATION:Thousand Islands High School Baseball Field
URL;VALUE=URI:https://www.1000islandsschools.org/departments/athletics/cale
 ndar/8742632/boys-varsity-baseball-v-lafargeville
DTSTART:20260511T203000Z
DTEND:20260511T213000Z
END:VEVENT
END:VCALENDAR
