BEGIN:VCALENDAR
VERSION:2.0
PRODID:SchoolNow
CALSCALE:GREGORIAN
BEGIN:VEVENT
UID:7b4d949e-af5d-11f0-837b-0a58a9feac02
DTSTAMP:20260421T211106Z
SUMMARY:Boys Varsity Baseball @ LaFargeville
LOCATION:Lafargeville School
URL;VALUE=URI:https://www.1000islandsschools.org/departments/athletics/cale
 ndar/8742633/boys-varsity-baseball-lafargeville
DTSTART:20260514T203000Z
DTEND:20260514T213000Z
END:VEVENT
END:VCALENDAR
